BEGIN:VCALENDAR
VERSION:2.0
PRODID:-//East Penn Democratic Club - ECPv6.15.20//NONSGML v1.0//EN
CALSCALE:GREGORIAN
METHOD:PUBLISH
X-ORIGINAL-URL:https://eastpenndemocraticclub.org
X-WR-CALDESC:Events for East Penn Democratic Club
REFRESH-INTERVAL;VALUE=DURATION:PT1H
X-Robots-Tag:noindex
X-PUBLISHED-TTL:PT1H
BEGIN:VTIMEZONE
TZID:America/New_York
BEGIN:DAYLIGHT
TZOFFSETFROM:-0500
TZOFFSETTO:-0400
TZNAME:EDT
DTSTART:20240310T070000
END:DAYLIGHT
BEGIN:STANDARD
TZOFFSETFROM:-0400
TZOFFSETTO:-0500
TZNAME:EST
DTSTART:20241103T060000
END:STANDARD
BEGIN:DAYLIGHT
TZOFFSETFROM:-0500
TZOFFSETTO:-0400
TZNAME:EDT
DTSTART:20250309T070000
END:DAYLIGHT
BEGIN:STANDARD
TZOFFSETFROM:-0400
TZOFFSETTO:-0500
TZNAME:EST
DTSTART:20251102T060000
END:STANDARD
BEGIN:DAYLIGHT
TZOFFSETFROM:-0500
TZOFFSETTO:-0400
TZNAME:EDT
DTSTART:20260308T070000
END:DAYLIGHT
BEGIN:STANDARD
TZOFFSETFROM:-0400
TZOFFSETTO:-0500
TZNAME:EST
DTSTART:20261101T060000
END:STANDARD
END:VTIMEZONE
BEGIN:VEVENT
DTSTART;TZID=America/New_York:20250216T133000
DTEND;TZID=America/New_York:20250216T143000
DTSTAMP:20260424T223939
CREATED:20241212T175413Z
LAST-MODIFIED:20250211T135407Z
UID:2249-1739712600-1739716200@eastpenndemocraticclub.org
SUMMARY:February 2025 East Penn Democratic Club Meeting
DESCRIPTION:Please join us for out February meeting.
URL:https://eastpenndemocraticclub.org/event/february-2025-east-penn-democratic-club-meeting/
LOCATION:LCDC Office\, 5920 Hamilton Blvd\, Allentown\, PA\, 18106\, United States
ATTACH;FMTTYPE=image/png:https://eastpenndemocraticclub.org/wp-content/uploads/2024/12/New-EPDC-Meeting-Graphic.png
END:VEVENT
BEGIN:VEVENT
DTSTART;TZID=America/New_York:20250218T170000
DTEND;TZID=America/New_York:20250218T180000
DTSTAMP:20260424T223939
CREATED:20250120T131255Z
LAST-MODIFIED:20250120T131658Z
UID:2327-1739898000-1739901600@eastpenndemocraticclub.org
SUMMARY:LCDC Petition Training
DESCRIPTION:This training session will provide instruction on meeting the requirements for obtaining signature on candidate petitions.
URL:https://eastpenndemocraticclub.org/event/lcdc-petition-training/
LOCATION:LCDC Office\, 5920 Hamilton Blvd\, Allentown\, PA\, 18106\, United States
ATTACH;FMTTYPE=image/png:https://eastpenndemocraticclub.org/wp-content/uploads/2025/01/LCDC2025PetitionTraining.png
END:VEVENT
BEGIN:VEVENT
DTSTART;TZID=America/New_York:20250218T183000
DTEND;TZID=America/New_York:20250218T200000
DTSTAMP:20260424T223939
CREATED:20250120T131523Z
LAST-MODIFIED:20250120T131524Z
UID:2329-1739903400-1739908800@eastpenndemocraticclub.org
SUMMARY:LCDC Petition Signing
DESCRIPTION:Join us to sign petitions to help place our Democratic candidates on the primary ballot for this year’s Municipal Primary Election.
URL:https://eastpenndemocraticclub.org/event/lcdc-petition-signing/
LOCATION:LCDC Office\, 5920 Hamilton Blvd\, Allentown\, PA\, 18106\, United States
ATTACH;FMTTYPE=image/png:https://eastpenndemocraticclub.org/wp-content/uploads/2025/01/LCDC2025PetitionSigning.png
END:VEVENT
BEGIN:VEVENT
DTSTART;TZID=America/New_York:20250219T120000
DTEND;TZID=America/New_York:20250219T140000
DTSTAMP:20260424T223939
CREATED:20250216T233651Z
LAST-MODIFIED:20250216T233651Z
UID:2361-1739966400-1739973600@eastpenndemocraticclub.org
SUMMARY:Tell Elon Musk: Hands Off Our Healthcare
DESCRIPTION:Join us outside of Representative Ryan Mackenzie’s office to tell him to stand up for us and stop Musk from planned cuts to Medicare and Medicaid. \nThis rally is a partnership among SEIU\, PSEA\, PA Stands Up\, Make the Road to PA\, and Working Families Party.
URL:https://eastpenndemocraticclub.org/event/tell-elon-musk-hands-off-our-healthcare/
LOCATION:Rep. Mackenzie’s Allentown Office\, 1125 S Cedar Crest Blvd\, Allentown\, PA\, 18103\, United States
END:VEVENT
BEGIN:VEVENT
DTSTART;TZID=America/New_York:20250223T133000
DTEND;TZID=America/New_York:20250223T153000
DTSTAMP:20260424T223939
CREATED:20250211T141900Z
LAST-MODIFIED:20250211T142017Z
UID:2349-1740317400-1740324600@eastpenndemocraticclub.org
SUMMARY:East Penn Democratic Club Petition Signing
DESCRIPTION:Join us for a petition signing to get our Democratic candidates on the ballot.
URL:https://eastpenndemocraticclub.org/event/east-penn-democratic-club-petition-signing/
LOCATION:LCDC Office\, 5920 Hamilton Blvd\, Allentown\, PA\, 18106\, United States
ATTACH;FMTTYPE=image/png:https://eastpenndemocraticclub.org/wp-content/uploads/2025/02/EPDC-PETITION-SIGING-2-23-25.png
END:VEVENT
END:VCALENDAR