BEGIN:VCALENDAR
VERSION:2.0
PRODID:-//East Penn Democratic Club - ECPv6.15.20//NONSGML v1.0//EN
CALSCALE:GREGORIAN
METHOD:PUBLISH
X-ORIGINAL-URL:https://eastpenndemocraticclub.org
X-WR-CALDESC:Events for East Penn Democratic Club
REFRESH-INTERVAL;VALUE=DURATION:PT1H
X-Robots-Tag:noindex
X-PUBLISHED-TTL:PT1H
BEGIN:VTIMEZONE
TZID:America/New_York
BEGIN:DAYLIGHT
TZOFFSETFROM:-0500
TZOFFSETTO:-0400
TZNAME:EDT
DTSTART:20240310T070000
END:DAYLIGHT
BEGIN:STANDARD
TZOFFSETFROM:-0400
TZOFFSETTO:-0500
TZNAME:EST
DTSTART:20241103T060000
END:STANDARD
BEGIN:DAYLIGHT
TZOFFSETFROM:-0500
TZOFFSETTO:-0400
TZNAME:EDT
DTSTART:20250309T070000
END:DAYLIGHT
BEGIN:STANDARD
TZOFFSETFROM:-0400
TZOFFSETTO:-0500
TZNAME:EST
DTSTART:20251102T060000
END:STANDARD
BEGIN:DAYLIGHT
TZOFFSETFROM:-0500
TZOFFSETTO:-0400
TZNAME:EDT
DTSTART:20260308T070000
END:DAYLIGHT
BEGIN:STANDARD
TZOFFSETFROM:-0400
TZOFFSETTO:-0500
TZNAME:EST
DTSTART:20261101T060000
END:STANDARD
END:VTIMEZONE
BEGIN:VEVENT
DTSTART;TZID=America/New_York:20251020T000000
DTEND;TZID=America/New_York:20251020T235900
DTSTAMP:20260425T074809
CREATED:20241212T182918Z
LAST-MODIFIED:20241212T182918Z
UID:2277-1760918400-1761004740@eastpenndemocraticclub.org
SUMMARY:Last Day to Register for the 2025 Municipal Election
DESCRIPTION:This is the last day to register to vote in the 2025 Municipal Primary Election. You can register to vote here.
URL:https://eastpenndemocraticclub.org/event/last-day-to-register-for-the-2025-municipal-election/
ATTACH;FMTTYPE=image/png:https://eastpenndemocraticclub.org/wp-content/uploads/2024/07/Last-day-to-register-2024.png
END:VEVENT
BEGIN:VEVENT
DTSTART;TZID=America/New_York:20251028T000000
DTEND;TZID=America/New_York:20251028T235900
DTSTAMP:20260425T074809
CREATED:20241212T183116Z
LAST-MODIFIED:20241212T183116Z
UID:2279-1761609600-1761695940@eastpenndemocraticclub.org
SUMMARY:Last Day to Apply for a Mail-in Ballot for the 2025 Municipal Election
DESCRIPTION:This is the last day to apply for a mail-in or civilian absentee ballot before the 2024 General Election. You can apply for a mail-in ballot here.
URL:https://eastpenndemocraticclub.org/event/last-day-to-apply-for-a-mail-in-ballot-for-the-2025-municipal-election/
ATTACH;FMTTYPE=image/png:https://eastpenndemocraticclub.org/wp-content/uploads/2024/07/Last-day-for-mailin-ballot-2024.png
END:VEVENT
BEGIN:VEVENT
DTSTART;TZID=America/New_York:20251104T070000
DTEND;TZID=America/New_York:20251104T200000
DTSTAMP:20260425T074809
CREATED:20241212T183300Z
LAST-MODIFIED:20241212T183300Z
UID:2281-1762239600-1762286400@eastpenndemocraticclub.org
SUMMARY:2025 Municipal Election
DESCRIPTION:Get to your polling place and vote. You can find the location of your polling place here.
URL:https://eastpenndemocraticclub.org/event/2025-municipal-election/
ATTACH;FMTTYPE=image/png:https://eastpenndemocraticclub.org/wp-content/uploads/2024/07/Election-day-2024.png
END:VEVENT
BEGIN:VEVENT
DTSTART;TZID=America/New_York:20251116T133000
DTEND;TZID=America/New_York:20251116T143000
DTSTAMP:20260425T074809
CREATED:20241212T180931Z
LAST-MODIFIED:20250211T140200Z
UID:2267-1763299800-1763303400@eastpenndemocraticclub.org
SUMMARY:November 2025 East Penn Democratic Club
DESCRIPTION:Please join us for our November meeting.
URL:https://eastpenndemocraticclub.org/event/november-2025-east-penn-democratic-club/
LOCATION:LCDC Office\, 5920 Hamilton Blvd\, Allentown\, PA\, 18106\, United States
ATTACH;FMTTYPE=image/png:https://eastpenndemocraticclub.org/wp-content/uploads/2024/12/New-EPDC-Meeting-Graphic.png
END:VEVENT
BEGIN:VEVENT
DTSTART;TZID=America/New_York:20251221T133000
DTEND;TZID=America/New_York:20251221T143000
DTSTAMP:20260425T074809
CREATED:20241212T181122Z
LAST-MODIFIED:20250211T140238Z
UID:2269-1766323800-1766327400@eastpenndemocraticclub.org
SUMMARY:December 2025 East Penn Democratic Club Meeting
DESCRIPTION:Please join us for our December meeting.
URL:https://eastpenndemocraticclub.org/event/december-2025-east-penn-democratic-club-meeting/
LOCATION:LCDC Office\, 5920 Hamilton Blvd\, Allentown\, PA\, 18106\, United States
ATTACH;FMTTYPE=image/png:https://eastpenndemocraticclub.org/wp-content/uploads/2024/12/New-EPDC-Meeting-Graphic.png
END:VEVENT
END:VCALENDAR