BEGIN:VCALENDAR
VERSION:2.0
PRODID:-//East Penn Democratic Club - ECPv6.15.20//NONSGML v1.0//EN
CALSCALE:GREGORIAN
METHOD:PUBLISH
X-WR-CALNAME:East Penn Democratic Club
X-ORIGINAL-URL:https://eastpenndemocraticclub.org
X-WR-CALDESC:Events for East Penn Democratic Club
REFRESH-INTERVAL;VALUE=DURATION:PT1H
X-Robots-Tag:noindex
X-PUBLISHED-TTL:PT1H
BEGIN:VTIMEZONE
TZID:America/New_York
BEGIN:DAYLIGHT
TZOFFSETFROM:-0500
TZOFFSETTO:-0400
TZNAME:EDT
DTSTART:20230312T070000
END:DAYLIGHT
BEGIN:STANDARD
TZOFFSETFROM:-0400
TZOFFSETTO:-0500
TZNAME:EST
DTSTART:20231105T060000
END:STANDARD
BEGIN:DAYLIGHT
TZOFFSETFROM:-0500
TZOFFSETTO:-0400
TZNAME:EDT
DTSTART:20240310T070000
END:DAYLIGHT
BEGIN:STANDARD
TZOFFSETFROM:-0400
TZOFFSETTO:-0500
TZNAME:EST
DTSTART:20241103T060000
END:STANDARD
BEGIN:DAYLIGHT
TZOFFSETFROM:-0500
TZOFFSETTO:-0400
TZNAME:EDT
DTSTART:20250309T070000
END:DAYLIGHT
BEGIN:STANDARD
TZOFFSETFROM:-0400
TZOFFSETTO:-0500
TZNAME:EST
DTSTART:20251102T060000
END:STANDARD
BEGIN:DAYLIGHT
TZOFFSETFROM:-0500
TZOFFSETTO:-0400
TZNAME:EDT
DTSTART:20260308T070000
END:DAYLIGHT
BEGIN:STANDARD
TZOFFSETFROM:-0400
TZOFFSETTO:-0500
TZNAME:EST
DTSTART:20261101T060000
END:STANDARD
END:VTIMEZONE
BEGIN:VEVENT
DTSTART;TZID=America/New_York:20250305T170000
DTEND;TZID=America/New_York:20250305T200000
DTSTAMP:20260425T061904
CREATED:20250211T202007Z
LAST-MODIFIED:20250211T202044Z
UID:2354-1741194000-1741204800@eastpenndemocraticclub.org
SUMMARY:East Penn Democratic Club Petition Signing
DESCRIPTION:Join us for a petition signing to get our Democratic candidates on the ballot.
URL:https://eastpenndemocraticclub.org/event/east-penn-democratic-club-petition-signing-2/
LOCATION:Wesley Works\, 500 Chestnut St\, Emmaus\, PA\, 18049\, United States
ATTACH;FMTTYPE=image/png:https://eastpenndemocraticclub.org/wp-content/uploads/2025/02/EPDC-PETITION-SIGING-2-23-25.png
END:VEVENT
BEGIN:VEVENT
DTSTART;TZID=America/New_York:20250223T133000
DTEND;TZID=America/New_York:20250223T153000
DTSTAMP:20260425T061904
CREATED:20250211T141900Z
LAST-MODIFIED:20250211T142017Z
UID:2349-1740317400-1740324600@eastpenndemocraticclub.org
SUMMARY:East Penn Democratic Club Petition Signing
DESCRIPTION:Join us for a petition signing to get our Democratic candidates on the ballot.
URL:https://eastpenndemocraticclub.org/event/east-penn-democratic-club-petition-signing/
LOCATION:LCDC Office\, 5920 Hamilton Blvd\, Allentown\, PA\, 18106\, United States
ATTACH;FMTTYPE=image/png:https://eastpenndemocraticclub.org/wp-content/uploads/2025/02/EPDC-PETITION-SIGING-2-23-25.png
END:VEVENT
BEGIN:VEVENT
DTSTART;TZID=America/New_York:20250219T120000
DTEND;TZID=America/New_York:20250219T140000
DTSTAMP:20260425T061904
CREATED:20250216T233651Z
LAST-MODIFIED:20250216T233651Z
UID:2361-1739966400-1739973600@eastpenndemocraticclub.org
SUMMARY:Tell Elon Musk: Hands Off Our Healthcare
DESCRIPTION:Join us outside of Representative Ryan Mackenzie’s office to tell him to stand up for us and stop Musk from planned cuts to Medicare and Medicaid. \nThis rally is a partnership among SEIU\, PSEA\, PA Stands Up\, Make the Road to PA\, and Working Families Party.
URL:https://eastpenndemocraticclub.org/event/tell-elon-musk-hands-off-our-healthcare/
LOCATION:Rep. Mackenzie’s Allentown Office\, 1125 S Cedar Crest Blvd\, Allentown\, PA\, 18103\, United States
END:VEVENT
BEGIN:VEVENT
DTSTART;TZID=America/New_York:20250218T183000
DTEND;TZID=America/New_York:20250218T200000
DTSTAMP:20260425T061904
CREATED:20250120T131523Z
LAST-MODIFIED:20250120T131524Z
UID:2329-1739903400-1739908800@eastpenndemocraticclub.org
SUMMARY:LCDC Petition Signing
DESCRIPTION:Join us to sign petitions to help place our Democratic candidates on the primary ballot for this year’s Municipal Primary Election.
URL:https://eastpenndemocraticclub.org/event/lcdc-petition-signing/
LOCATION:LCDC Office\, 5920 Hamilton Blvd\, Allentown\, PA\, 18106\, United States
ATTACH;FMTTYPE=image/png:https://eastpenndemocraticclub.org/wp-content/uploads/2025/01/LCDC2025PetitionSigning.png
END:VEVENT
BEGIN:VEVENT
DTSTART;TZID=America/New_York:20250218T170000
DTEND;TZID=America/New_York:20250218T180000
DTSTAMP:20260425T061904
CREATED:20250120T131255Z
LAST-MODIFIED:20250120T131658Z
UID:2327-1739898000-1739901600@eastpenndemocraticclub.org
SUMMARY:LCDC Petition Training
DESCRIPTION:This training session will provide instruction on meeting the requirements for obtaining signature on candidate petitions.
URL:https://eastpenndemocraticclub.org/event/lcdc-petition-training/
LOCATION:LCDC Office\, 5920 Hamilton Blvd\, Allentown\, PA\, 18106\, United States
ATTACH;FMTTYPE=image/png:https://eastpenndemocraticclub.org/wp-content/uploads/2025/01/LCDC2025PetitionTraining.png
END:VEVENT
BEGIN:VEVENT
DTSTART;TZID=America/New_York:20250216T133000
DTEND;TZID=America/New_York:20250216T143000
DTSTAMP:20260425T061904
CREATED:20241212T175413Z
LAST-MODIFIED:20250211T135407Z
UID:2249-1739712600-1739716200@eastpenndemocraticclub.org
SUMMARY:February 2025 East Penn Democratic Club Meeting
DESCRIPTION:Please join us for out February meeting.
URL:https://eastpenndemocraticclub.org/event/february-2025-east-penn-democratic-club-meeting/
LOCATION:LCDC Office\, 5920 Hamilton Blvd\, Allentown\, PA\, 18106\, United States
ATTACH;FMTTYPE=image/png:https://eastpenndemocraticclub.org/wp-content/uploads/2024/12/New-EPDC-Meeting-Graphic.png
END:VEVENT
BEGIN:VEVENT
DTSTART;TZID=America/New_York:20250122T183000
DTEND;TZID=America/New_York:20250122T193000
DTSTAMP:20260425T061904
CREATED:20250120T130952Z
LAST-MODIFIED:20250120T131601Z
UID:2321-1737570600-1737574200@eastpenndemocraticclub.org
SUMMARY:LCDC PCP Training
DESCRIPTION:Are you a new Precinct Committee Person (PCP)\, thinking about becoming a PCP\, or want a refresher on the rolls of a PCP? If so\, please RSVP for the PCP training. \nCLICK HERE TO RSVP
URL:https://eastpenndemocraticclub.org/event/lcdc-pcp-training/
LOCATION:LCDC Office\, 5920 Hamilton Blvd\, Allentown\, PA\, 18106\, United States
ATTACH;FMTTYPE=image/png:https://eastpenndemocraticclub.org/wp-content/uploads/2025/01/LCDC2025PCPTraingin.png
END:VEVENT
BEGIN:VEVENT
DTSTART;TZID=America/New_York:20250119T133000
DTEND;TZID=America/New_York:20250119T143000
DTSTAMP:20260425T061904
CREATED:20241212T175214Z
LAST-MODIFIED:20241212T175214Z
UID:2247-1737293400-1737297000@eastpenndemocraticclub.org
SUMMARY:January 2025 East Penn Democratic Club Meeting
DESCRIPTION:Please join us for our January meeting.
URL:https://eastpenndemocraticclub.org/event/january-2025-east-penn-democratic-club-meeting/
LOCATION:Kalmbach Memorial Park\, 200 Cotton St\, Macungie\, PA\, 18062
ATTACH;FMTTYPE=image/png:https://eastpenndemocraticclub.org/wp-content/uploads/2024/12/New-EPDC-Meeting-Graphic.png
END:VEVENT
BEGIN:VEVENT
DTSTART;TZID=America/New_York:20241217T170000
DTEND;TZID=America/New_York:20241217T190000
DTSTAMP:20260425T061904
CREATED:20241212T185346Z
LAST-MODIFIED:20241212T185346Z
UID:2286-1734454800-1734462000@eastpenndemocraticclub.org
SUMMARY:Josh Siegel's Announcement of His Candidacy for Lehigh County Executive
DESCRIPTION:You are invited to join Josh Siegel for his announcement of his candidacy for Lehigh County Executive.
URL:https://eastpenndemocraticclub.org/event/josh-siegels-announcement-of-his-candidacy-for-lehigh-county-executive/
LOCATION:IBEW375\, 101 S. 7th Street\, Allentown\, PA\, United States
ATTACH;FMTTYPE=image/png:https://eastpenndemocraticclub.org/wp-content/uploads/2024/12/Siegels-run-for-LC-Exec.png
END:VEVENT
BEGIN:VEVENT
DTSTART;TZID=America/New_York:20241215T133000
DTEND;TZID=America/New_York:20241215T143000
DTSTAMP:20260425T061904
CREATED:20241212T174922Z
LAST-MODIFIED:20241212T175955Z
UID:2243-1734269400-1734273000@eastpenndemocraticclub.org
SUMMARY:December 2024 East Penn Democratic Club Meeting
DESCRIPTION:Please join us for our December meeting.
URL:https://eastpenndemocraticclub.org/event/december-2024-east-penn-democratic-club-meeting/
LOCATION:Kalmbach Memorial Park\, 200 Cotton St\, Macungie\, PA\, 18062
ATTACH;FMTTYPE=image/png:https://eastpenndemocraticclub.org/wp-content/uploads/2024/12/New-EPDC-Meeting-Graphic.png
END:VEVENT
BEGIN:VEVENT
DTSTART;TZID=America/New_York:20241105T100000
DTEND;TZID=America/New_York:20241105T180000
DTSTAMP:20260425T061904
CREATED:20241002T004306Z
LAST-MODIFIED:20241002T004306Z
UID:2162-1730800800-1730829600@eastpenndemocraticclub.org
SUMMARY:Get Out the Vote for Susan Wild by Knocking Doors in Macungie
DESCRIPTION:Join us for a Get Out the Vote canvass launch in Macungie to talk with your neighbors about voting for Susan Wild! We will be making voting plans and educating voters on all of the ways they can vote this year. \nPlease come dressed in comfortable clothes and walking shoes. You should also have a fully charged phone. We’ll see you then! \nSign up for one of the shifts (10am-1pm\, 1-3pm\, 3-6pm) by clicking below \nCLICK HERE TO VOLUNTEER FOR THIS EVENT
URL:https://eastpenndemocraticclub.org/event/get-out-the-vote-for-susan-wild-by-knocking-doors-in-macungie-8/
LOCATION:Location Provided When You Registerfor Event
ATTACH;FMTTYPE=image/png:https://eastpenndemocraticclub.org/wp-content/uploads/2024/09/WildCountDownToEDay.png
END:VEVENT
BEGIN:VEVENT
DTSTART;TZID=America/New_York:20241105T070000
DTEND;TZID=America/New_York:20241105T200000
DTSTAMP:20260425T061904
CREATED:20240712T200325Z
LAST-MODIFIED:20240712T200325Z
UID:1714-1730790000-1730836800@eastpenndemocraticclub.org
SUMMARY:2024 General Election
DESCRIPTION:Today is General Election day. Get out and vote! You can find your polling place here.
URL:https://eastpenndemocraticclub.org/event/2024-general-election/
LOCATION:PA
ATTACH;FMTTYPE=image/png:https://eastpenndemocraticclub.org/wp-content/uploads/2024/07/Election-day-2024.png
END:VEVENT
BEGIN:VEVENT
DTSTART;TZID=America/New_York:20241104T100000
DTEND;TZID=America/New_York:20241104T180000
DTSTAMP:20260425T061904
CREATED:20241002T004135Z
LAST-MODIFIED:20241002T004135Z
UID:2160-1730714400-1730743200@eastpenndemocraticclub.org
SUMMARY:Get Out the Vote for Susan Wild by Knocking Doors in Macungie
DESCRIPTION:Join us for a Get Out the Vote canvass launch in Macungie to talk with your neighbors about voting for Susan Wild! We will be making voting plans and educating voters on all of the ways they can vote this year. \nPlease come dressed in comfortable clothes and walking shoes. You should also have a fully charged phone. We’ll see you then! \nSign up for one of the shifts (10am-1pm\, 1-3pm\, 3-6pm) by clicking below \nCLICK HERE TO VOLUNTEER FOR THIS EVENT
URL:https://eastpenndemocraticclub.org/event/get-out-the-vote-for-susan-wild-by-knocking-doors-in-macungie-7/
LOCATION:Location Provided When You Registerfor Event
ATTACH;FMTTYPE=image/png:https://eastpenndemocraticclub.org/wp-content/uploads/2024/09/WildCountDownToEDay.png
END:VEVENT
BEGIN:VEVENT
DTSTART;TZID=America/New_York:20241103T100000
DTEND;TZID=America/New_York:20241103T180000
DTSTAMP:20260425T061904
CREATED:20241002T003937Z
LAST-MODIFIED:20241002T003937Z
UID:2158-1730628000-1730656800@eastpenndemocraticclub.org
SUMMARY:Get Out the Vote for Susan Wild by Knocking Doors in Macungie
DESCRIPTION:Join us for a Get Out the Vote canvass launch in Macungie to talk with your neighbors about voting for Susan Wild! We will be making voting plans and educating voters on all of the ways they can vote this year. \nPlease come dressed in comfortable clothes and walking shoes. You should also have a fully charged phone. We’ll see you then! \nSign up for one of the shifts (10am-1pm\, 1-3pm\, 3-6pm) by clicking below \nCLICK HERE TO VOLUNTEER FOR THIS EVENT
URL:https://eastpenndemocraticclub.org/event/get-out-the-vote-for-susan-wild-by-knocking-doors-in-macungie-5/
LOCATION:Location Provided When You Registerfor Event
ATTACH;FMTTYPE=image/png:https://eastpenndemocraticclub.org/wp-content/uploads/2024/09/WildCountDownToEDay.png
END:VEVENT
BEGIN:VEVENT
DTSTART;TZID=America/New_York:20241102T100000
DTEND;TZID=America/New_York:20241102T180000
DTSTAMP:20260425T061904
CREATED:20241002T003748Z
LAST-MODIFIED:20241002T003748Z
UID:2156-1730541600-1730570400@eastpenndemocraticclub.org
SUMMARY:Get Out the Vote for Susan Wild by Knocking Doors in Macungie
DESCRIPTION:Join us for a Get Out the Vote canvass launch in Macungie to talk with your neighbors about voting for Susan Wild! We will be making voting plans and educating voters on all of the ways they can vote this year. \nPlease come dressed in comfortable clothes and walking shoes. You should also have a fully charged phone. We’ll see you then! \nSign up for one of the shifts (10am-1pm\, 1-3pm\, 3-6pm) by clicking below \nCLICK HERE TO VOLUNTEER FOR THIS EVENT
URL:https://eastpenndemocraticclub.org/event/get-out-the-vote-for-susan-wild-by-knocking-doors-in-macungie-4/
LOCATION:Location Provided When You Registerfor Event
ATTACH;FMTTYPE=image/png:https://eastpenndemocraticclub.org/wp-content/uploads/2024/09/WildCountDownToEDay.png
END:VEVENT
BEGIN:VEVENT
DTSTART;TZID=America/New_York:20241030T080000
DTEND;TZID=America/New_York:20241030T170000
DTSTAMP:20260425T061904
CREATED:20240821T181947Z
LAST-MODIFIED:20240821T181947Z
UID:2084-1730275200-1730307600@eastpenndemocraticclub.org
SUMMARY:Pennsylvania Recruitment and Voter Outreach Phone Bank
DESCRIPTION:Join us for a virtual phone bank to talk with Pennsylvania voters about volunteering with us\, and how and when to vote in the upcoming general election. \nRight now\, you can help us from home by guiding voters through the voting process so their voices may be heard. We’ll also be encouraging voters to cast their votes for Vice President Kamala Harris and Democratic candidates for the US Senate and House. We use a predictive dialer (Scale to Win) which guards your privacy and screens out voicemails\, allowing you to talk to more voters in less time. \nYou’ll need a computer with reliable internet service\, preferably a desktop or laptop. We also recommend headphones as well as a comfy\, quiet place in your home. \nTo get started\, we recommend opening the Zoom link and getting set up a few minutes before your scheduled start time so you can focus on having good conversations for your full shift. All shifts start with a short training. The Zoom link will be sent to you after signing up here\, and also the day of your shift. \nCLICK HERE to volunteer for this event.
URL:https://eastpenndemocraticclub.org/event/pennsylvania-recruitment-and-voter-outreach-phone-bank-8/
LOCATION:Virtual
ATTACH;FMTTYPE=image/png:https://eastpenndemocraticclub.org/wp-content/uploads/2024/08/VoteBluePhoneBank.png
END:VEVENT
BEGIN:VEVENT
DTSTART;TZID=America/New_York:20241029T000000
DTEND;TZID=America/New_York:20241029T170000
DTSTAMP:20260425T061904
CREATED:20240712T200102Z
LAST-MODIFIED:20240712T200102Z
UID:1712-1730160000-1730221200@eastpenndemocraticclub.org
SUMMARY:Last day to Apply for a Mail-in or Civilian Absentee Ballot before the 2024 General Election
DESCRIPTION:This is the last day to apply for a mail-in or civilian absentee ballot before the 2024 General Election. You can apply for a mail-in ballot here.
URL:https://eastpenndemocraticclub.org/event/last-day-to-apply-for-a-mail-in-or-civilian-absentee-ballot-before-the-2024-general-election/
LOCATION:PA
ATTACH;FMTTYPE=image/png:https://eastpenndemocraticclub.org/wp-content/uploads/2024/07/Last-day-for-mailin-ballot-2024.png
END:VEVENT
BEGIN:VEVENT
DTSTART;TZID=America/New_York:20241027T100000
DTEND;TZID=America/New_York:20241027T180000
DTSTAMP:20260425T061904
CREATED:20241002T003517Z
LAST-MODIFIED:20241002T003517Z
UID:2154-1730023200-1730052000@eastpenndemocraticclub.org
SUMMARY:Get Out the Vote for Susan Wild by Knocking Doors in Macungie
DESCRIPTION:Join us for a Get Out the Vote canvass launch in Macungie to talk with your neighbors about voting for Susan Wild! We will be making voting plans and educating voters on all of the ways they can vote this year. \nPlease come dressed in comfortable clothes and walking shoes. You should also have a fully charged phone. We’ll see you then! \nSign up for one of the shifts (10am-1pm\, 1-3pm\, 3-6pm) by clicking below \nCLICK HERE TO VOLUNTEER FOR THIS EVENT
URL:https://eastpenndemocraticclub.org/event/get-out-the-vote-for-susan-wild-by-knocking-doors-in-macungie-3/
LOCATION:Location Provided When You Registerfor Event
ATTACH;FMTTYPE=image/png:https://eastpenndemocraticclub.org/wp-content/uploads/2024/09/WildCountDownToEDay.png
END:VEVENT
BEGIN:VEVENT
DTSTART;TZID=America/New_York:20241026T100000
DTEND;TZID=America/New_York:20241026T180000
DTSTAMP:20260425T061904
CREATED:20240930T211540Z
LAST-MODIFIED:20241002T003153Z
UID:2148-1729936800-1729965600@eastpenndemocraticclub.org
SUMMARY:Get Out the Vote for Susan Wild by Knocking Doors in Macungie
DESCRIPTION:Join us for a Get Out the Vote canvass launch in Macungie to talk with your neighbors about voting for Susan Wild! We will be making voting plans and educating voters on all of the ways they can vote this year. \nPlease come dressed in comfortable clothes and walking shoes. You should also have a fully charged phone. We’ll see you then! \nSign up for one of the shifts (10am-1pm\, 1-3pm\, 3-6pm) by clicking below \nCLICK HERE TO VOLUNTEER FOR THIS EVENT
URL:https://eastpenndemocraticclub.org/event/get-out-the-vote-for-susan-wild-by-knocking-doors-in-macungie-6/
LOCATION:Location Provided When You Registerfor Event
ATTACH;FMTTYPE=image/png:https://eastpenndemocraticclub.org/wp-content/uploads/2024/09/WildCountDownToEDay.png
END:VEVENT
BEGIN:VEVENT
DTSTART;TZID=America/New_York:20241023T160000
DTEND;TZID=America/New_York:20241023T180000
DTSTAMP:20260425T061904
CREATED:20240821T181826Z
LAST-MODIFIED:20240821T181826Z
UID:2082-1729699200-1729706400@eastpenndemocraticclub.org
SUMMARY:Pennsylvania Recruitment and Voter Outreach Phone Bank
DESCRIPTION:Join us for a virtual phone bank to talk with Pennsylvania voters about volunteering with us\, and how and when to vote in the upcoming general election. \nRight now\, you can help us from home by guiding voters through the voting process so their voices may be heard. We’ll also be encouraging voters to cast their votes for Vice President Kamala Harris and Democratic candidates for the US Senate and House. We use a predictive dialer (Scale to Win) which guards your privacy and screens out voicemails\, allowing you to talk to more voters in less time. \nYou’ll need a computer with reliable internet service\, preferably a desktop or laptop. We also recommend headphones as well as a comfy\, quiet place in your home. \nTo get started\, we recommend opening the Zoom link and getting set up a few minutes before your scheduled start time so you can focus on having good conversations for your full shift. All shifts start with a short training. The Zoom link will be sent to you after signing up here\, and also the day of your shift. \nCLICK HERE to volunteer for this event.
URL:https://eastpenndemocraticclub.org/event/pennsylvania-recruitment-and-voter-outreach-phone-bank-7/
LOCATION:Virtual
ATTACH;FMTTYPE=image/png:https://eastpenndemocraticclub.org/wp-content/uploads/2024/08/VoteBluePhoneBank.png
END:VEVENT
BEGIN:VEVENT
DTSTART;TZID=America/New_York:20241021T000000
DTEND;TZID=America/New_York:20241021T170000
DTSTAMP:20260425T061904
CREATED:20240712T195835Z
LAST-MODIFIED:20240712T195835Z
UID:1707-1729468800-1729530000@eastpenndemocraticclub.org
SUMMARY:Last day to Register to Vote before the 2024 General Election
DESCRIPTION:This is the last day to register to vote before the 2024 General Election. You can register to vote here.
URL:https://eastpenndemocraticclub.org/event/last-day-to-register-to-vote-before-the-2024-general-election/
LOCATION:PA
ATTACH;FMTTYPE=image/png:https://eastpenndemocraticclub.org/wp-content/uploads/2024/07/Last-day-to-register-2024.png
END:VEVENT
BEGIN:VEVENT
DTSTART;TZID=America/New_York:20241020T100000
DTEND;TZID=America/New_York:20241020T180000
DTSTAMP:20260425T061904
CREATED:20240930T204910Z
LAST-MODIFIED:20241002T003057Z
UID:2140-1729418400-1729447200@eastpenndemocraticclub.org
SUMMARY:Get Out the Vote for Susan Wild by Knocking Doors in Macungie
DESCRIPTION:Join us for a Get Out the Vote canvass launch in Macungie to talk with your neighbors about voting for Susan Wild! We will be making voting plans and educating voters on all of the ways they can vote this year. \nPlease come dressed in comfortable clothes and walking shoes. You should also have a fully charged phone. We’ll see you then! \nSign up for one of the shifts (10am-1pm\, 1-3pm\, 3-6pm) by clicking below \nCLICK HERE TO VOLUNTEER FOR THIS EVENT
URL:https://eastpenndemocraticclub.org/event/get-out-the-vote-for-susan-wild-by-knocking-doors-in-macungie-2/
LOCATION:Location Provided When You Registerfor Event
ATTACH;FMTTYPE=image/png:https://eastpenndemocraticclub.org/wp-content/uploads/2024/09/WildCountDownToEDay.png
END:VEVENT
BEGIN:VEVENT
DTSTART;TZID=America/New_York:20241020T100000
DTEND;TZID=America/New_York:20241020T160000
DTSTAMP:20260425T061904
CREATED:20240821T125509Z
LAST-MODIFIED:20241016T183142Z
UID:2008-1729418400-1729440000@eastpenndemocraticclub.org
SUMMARY:East Penn Democratic Club Meeting
DESCRIPTION:We need drivers at the at the Grange on Sunday\, 10/20. \n 
URL:https://eastpenndemocraticclub.org/event/east-penn-democratic-club-meeting-3/
LOCATION:Trexlertown Grange Building\, 1183 Grange Rd\, Allentown\, PA\, 18106
ATTACH;FMTTYPE=image/png:https://eastpenndemocraticclub.org/wp-content/uploads/2024/07/EPDC-Events-Graphics-upholding.png
END:VEVENT
BEGIN:VEVENT
DTSTART;TZID=America/New_York:20241020T100000
DTEND;TZID=America/New_York:20241020T120000
DTSTAMP:20260425T061904
CREATED:20240930T201125Z
LAST-MODIFIED:20240930T201535Z
UID:2124-1729418400-1729425600@eastpenndemocraticclub.org
SUMMARY:Joint Canvass with UAW and the Lehigh Valley Central Labor Council
DESCRIPTION:Join the Lehigh Valley Central Labor Council and our UAW brothers and sisters at the UAW Local 677 Union Hall! \nCLICK HERE TO VOLUNTEER FOR THE EVENT
URL:https://eastpenndemocraticclub.org/event/joint-canvass-with-uaw-and-the-lehigh-valley-central-labor-council/
LOCATION:UAW Local 677 Hall\, 2101 Mack Blvd\, Allentown\, PA
ATTACH;FMTTYPE=image/png:https://eastpenndemocraticclub.org/wp-content/uploads/2024/09/LaborDaysOfAction.png
END:VEVENT
BEGIN:VEVENT
DTSTART;TZID=America/New_York:20241019T100000
DTEND;TZID=America/New_York:20241019T180000
DTSTAMP:20260425T061904
CREATED:20240930T204617Z
LAST-MODIFIED:20240930T212210Z
UID:2138-1729332000-1729360800@eastpenndemocraticclub.org
SUMMARY:Get Out the Vote for Susan Wild by Knocking Doors in Macungie
DESCRIPTION:Join us for a Get Out the Vote canvass launch in Macungie to talk with your neighbors about voting for Susan Wild! We will be making voting plans and educating voters on all of the ways they can vote this year. \nPlease come dressed in comfortable clothes and walking shoes. You should also have a fully charged phone. We’ll see you then! \nSign up for one of the shifts (10am-1pm\, 1-3pm\, 3-6pm) by clicking below \nCLICK HERE TO VOLUNTEER FOR THIS EVENT
URL:https://eastpenndemocraticclub.org/event/get-out-the-vote-for-susan-wild-by-knocking-doors-in-macungie/
LOCATION:Location Provided When You Registerfor Event
ATTACH;FMTTYPE=image/png:https://eastpenndemocraticclub.org/wp-content/uploads/2024/09/WildCountDownToEDay.png
END:VEVENT
BEGIN:VEVENT
DTSTART;TZID=America/New_York:20241016T160000
DTEND;TZID=America/New_York:20241016T180000
DTSTAMP:20260425T061904
CREATED:20240821T181551Z
LAST-MODIFIED:20240821T181551Z
UID:2080-1729094400-1729101600@eastpenndemocraticclub.org
SUMMARY:Pennsylvania Recruitment and Voter Outreach Phone Bank
DESCRIPTION:Join us for a virtual phone bank to talk with Pennsylvania voters about volunteering with us\, and how and when to vote in the upcoming general election. \nRight now\, you can help us from home by guiding voters through the voting process so their voices may be heard. We’ll also be encouraging voters to cast their votes for Vice President Kamala Harris and Democratic candidates for the US Senate and House. We use a predictive dialer (Scale to Win) which guards your privacy and screens out voicemails\, allowing you to talk to more voters in less time. \nYou’ll need a computer with reliable internet service\, preferably a desktop or laptop. We also recommend headphones as well as a comfy\, quiet place in your home. \nTo get started\, we recommend opening the Zoom link and getting set up a few minutes before your scheduled start time so you can focus on having good conversations for your full shift. All shifts start with a short training. The Zoom link will be sent to you after signing up here\, and also the day of your shift. \nCLICK HERE to volunteer for this event.
URL:https://eastpenndemocraticclub.org/event/pennsylvania-recruitment-and-voter-outreach-phone-bank-6/
LOCATION:Virtual
ATTACH;FMTTYPE=image/png:https://eastpenndemocraticclub.org/wp-content/uploads/2024/08/VoteBluePhoneBank.png
END:VEVENT
BEGIN:VEVENT
DTSTART;TZID=America/New_York:20241015T190000
DTEND;TZID=America/New_York:20241015T210000
DTSTAMP:20260425T061904
CREATED:20240930T150114Z
LAST-MODIFIED:20240930T150114Z
UID:2120-1729018800-1729026000@eastpenndemocraticclub.org
SUMMARY:The True Nature of Climate Crisis
DESCRIPTION:Join Zach Brown\, PhD\, to explore the barriers to climate action and how we can overcome them. All are welcome. \nCLICK HERE FOR A FREE TICKET
URL:https://eastpenndemocraticclub.org/event/the-true-nature-of-climate-crisis/
LOCATION:Lehigh Valley Active Life Center\, 1633 Elm Street\, Allentown\, PA
ATTACH;FMTTYPE=image/png:https://eastpenndemocraticclub.org/wp-content/uploads/2024/09/ClimateCrisisEvent.png
END:VEVENT
BEGIN:VEVENT
DTSTART;TZID=America/New_York:20241013T100000
DTEND;TZID=America/New_York:20241013T150000
DTSTAMP:20260425T061904
CREATED:20241002T005400Z
LAST-MODIFIED:20241002T005400Z
UID:2171-1728813600-1728831600@eastpenndemocraticclub.org
SUMMARY:Canvas Launch for Stef Rafes and Susan Wild
DESCRIPTION:Come knock doors with Team Wild and Stef Rafes this weekend in Macungie! There are only 14 Saturdays left until election day! Let’s get out there and talk to voters about all of the Democrats on the ticket. \nSign up for one of the shifts (10am – 1pm\, 1-3pm) by clicking below \nCLICK HERE TO VOLUNTEER FOR THIS EVENT
URL:https://eastpenndemocraticclub.org/event/canvas-launch-for-stef-rafes-and-susan-wild/
LOCATION:Kalmbach Memorial Park\, 200 Cotton St\, Macungie\, PA\, 18062
ATTACH;FMTTYPE=image/png:https://eastpenndemocraticclub.org/wp-content/uploads/2024/10/WildRafesCAnvassLaunch.png
END:VEVENT
BEGIN:VEVENT
DTSTART;TZID=America/New_York:20241012T100000
DTEND;TZID=America/New_York:20241012T150000
DTSTAMP:20260425T061904
CREATED:20241002T005226Z
LAST-MODIFIED:20241002T005226Z
UID:2169-1728727200-1728745200@eastpenndemocraticclub.org
SUMMARY:Canvass Launch for Stef Rafes and Susan Wild
DESCRIPTION:Come knock doors with Team Wild and Stef Rafes this weekend in Macungie! There are only 14 Saturdays left until election day! Let’s get out there and talk to voters about all of the Democrats on the ticket. \nSign up for one of the shifts (10am – 1pm\, 1-3pm) by clicking below \nCLICK HERE TO VOLUNTEER FOR THIS EVENT
URL:https://eastpenndemocraticclub.org/event/canvass-launch-for-stef-rafes-and-susan-wild-3/
LOCATION:Kalmbach Memorial Park\, 200 Cotton St\, Macungie\, PA\, 18062
ATTACH;FMTTYPE=image/png:https://eastpenndemocraticclub.org/wp-content/uploads/2024/10/WildRafesCAnvassLaunch.png
END:VEVENT
BEGIN:VEVENT
DTSTART;TZID=America/New_York:20241009T160000
DTEND;TZID=America/New_York:20241009T180000
DTSTAMP:20260425T061904
CREATED:20240821T181411Z
LAST-MODIFIED:20240821T181411Z
UID:2078-1728489600-1728496800@eastpenndemocraticclub.org
SUMMARY:Pennsylvania Recruitment and Voter Outreach Phone Bank
DESCRIPTION:Join us for a virtual phone bank to talk with Pennsylvania voters about volunteering with us\, and how and when to vote in the upcoming general election. \nRight now\, you can help us from home by guiding voters through the voting process so their voices may be heard. We’ll also be encouraging voters to cast their votes for Vice President Kamala Harris and Democratic candidates for the US Senate and House. We use a predictive dialer (Scale to Win) which guards your privacy and screens out voicemails\, allowing you to talk to more voters in less time. \nYou’ll need a computer with reliable internet service\, preferably a desktop or laptop. We also recommend headphones as well as a comfy\, quiet place in your home. \nTo get started\, we recommend opening the Zoom link and getting set up a few minutes before your scheduled start time so you can focus on having good conversations for your full shift. All shifts start with a short training. The Zoom link will be sent to you after signing up here\, and also the day of your shift. \nCLICK HERE to volunteer for this event.
URL:https://eastpenndemocraticclub.org/event/pennsylvania-recruitment-and-voter-outreach-phone-bank-5/
LOCATION:Virtual
ATTACH;FMTTYPE=image/png:https://eastpenndemocraticclub.org/wp-content/uploads/2024/08/VoteBluePhoneBank.png
END:VEVENT
END:VCALENDAR