BEGIN:VCALENDAR
VERSION:2.0
PRODID:-//East Penn Democratic Club - ECPv6.15.20//NONSGML v1.0//EN
CALSCALE:GREGORIAN
METHOD:PUBLISH
X-WR-CALNAME:East Penn Democratic Club
X-ORIGINAL-URL:https://eastpenndemocraticclub.org
X-WR-CALDESC:Events for East Penn Democratic Club
REFRESH-INTERVAL;VALUE=DURATION:PT1H
X-Robots-Tag:noindex
X-PUBLISHED-TTL:PT1H
BEGIN:VTIMEZONE
TZID:America/New_York
BEGIN:DAYLIGHT
TZOFFSETFROM:-0500
TZOFFSETTO:-0400
TZNAME:EDT
DTSTART:20240310T070000
END:DAYLIGHT
BEGIN:STANDARD
TZOFFSETFROM:-0400
TZOFFSETTO:-0500
TZNAME:EST
DTSTART:20241103T060000
END:STANDARD
BEGIN:DAYLIGHT
TZOFFSETFROM:-0500
TZOFFSETTO:-0400
TZNAME:EDT
DTSTART:20250309T070000
END:DAYLIGHT
BEGIN:STANDARD
TZOFFSETFROM:-0400
TZOFFSETTO:-0500
TZNAME:EST
DTSTART:20251102T060000
END:STANDARD
BEGIN:DAYLIGHT
TZOFFSETFROM:-0500
TZOFFSETTO:-0400
TZNAME:EDT
DTSTART:20260308T070000
END:DAYLIGHT
BEGIN:STANDARD
TZOFFSETFROM:-0400
TZOFFSETTO:-0500
TZNAME:EST
DTSTART:20261101T060000
END:STANDARD
END:VTIMEZONE
BEGIN:VEVENT
DTSTART;TZID=America/New_York:20251018T120000
DTEND;TZID=America/New_York:20251018T133000
DTSTAMP:20260424T130348
CREATED:20250919T162958Z
LAST-MODIFIED:20250919T162958Z
UID:2580-1760788800-1760794200@eastpenndemocraticclub.org
SUMMARY:No Kings Protest
DESCRIPTION:Join us for the second No Kings action. Bring signs and energy to this peaceful protest. \nParking is available in the surrounding neighborhoods. Please do not park in the office building parking lot.
URL:https://eastpenndemocraticclub.org/event/no-kings-protest/
LOCATION:Rep. Mackenzie’s Allentown Office\, 1125 S Cedar Crest Blvd\, Allentown\, PA\, 18103\, United States
END:VEVENT
END:VCALENDAR