BEGIN:VCALENDAR
VERSION:2.0
PRODID:-//East Penn Democratic Club - ECPv6.15.20//NONSGML v1.0//EN
CALSCALE:GREGORIAN
METHOD:PUBLISH
X-WR-CALNAME:East Penn Democratic Club
X-ORIGINAL-URL:https://eastpenndemocraticclub.org
X-WR-CALDESC:Events for East Penn Democratic Club
REFRESH-INTERVAL;VALUE=DURATION:PT1H
X-Robots-Tag:noindex
X-PUBLISHED-TTL:PT1H
BEGIN:VTIMEZONE
TZID:America/New_York
BEGIN:DAYLIGHT
TZOFFSETFROM:-0500
TZOFFSETTO:-0400
TZNAME:EDT
DTSTART:20240310T070000
END:DAYLIGHT
BEGIN:STANDARD
TZOFFSETFROM:-0400
TZOFFSETTO:-0500
TZNAME:EST
DTSTART:20241103T060000
END:STANDARD
BEGIN:DAYLIGHT
TZOFFSETFROM:-0500
TZOFFSETTO:-0400
TZNAME:EDT
DTSTART:20250309T070000
END:DAYLIGHT
BEGIN:STANDARD
TZOFFSETFROM:-0400
TZOFFSETTO:-0500
TZNAME:EST
DTSTART:20251102T060000
END:STANDARD
BEGIN:DAYLIGHT
TZOFFSETFROM:-0500
TZOFFSETTO:-0400
TZNAME:EDT
DTSTART:20260308T070000
END:DAYLIGHT
BEGIN:STANDARD
TZOFFSETFROM:-0400
TZOFFSETTO:-0500
TZNAME:EST
DTSTART:20261101T060000
END:STANDARD
END:VTIMEZONE
BEGIN:VEVENT
DTSTART;TZID=America/New_York:20250513T000000
DTEND;TZID=America/New_York:20250513T235900
DTSTAMP:20260424T195406
CREATED:20241212T181611Z
LAST-MODIFIED:20241212T182412Z
UID:2271-1747094400-1747180740@eastpenndemocraticclub.org
SUMMARY:Last Day to Apply for a Mail-in Ballot for the 2025 Municipal Primary Election
DESCRIPTION:This is the last day to apply for a mail-in or civilian absentee ballot before the 2024 General Election. You can apply for a mail-in ballot here.
URL:https://eastpenndemocraticclub.org/event/last-day-to-apply-for-a-mail-in-ballot-for-the-2025-municipal-primary-election/
LOCATION:PA
ATTACH;FMTTYPE=image/png:https://eastpenndemocraticclub.org/wp-content/uploads/2024/07/Last-day-for-mailin-ballot-2024.png
END:VEVENT
END:VCALENDAR