BEGIN:VCALENDAR
VERSION:2.0
PRODID:-//East Penn Democratic Club - ECPv6.15.20//NONSGML v1.0//EN
CALSCALE:GREGORIAN
METHOD:PUBLISH
X-ORIGINAL-URL:https://eastpenndemocraticclub.org
X-WR-CALDESC:Events for East Penn Democratic Club
REFRESH-INTERVAL;VALUE=DURATION:PT1H
X-Robots-Tag:noindex
X-PUBLISHED-TTL:PT1H
BEGIN:VTIMEZONE
TZID:America/New_York
BEGIN:DAYLIGHT
TZOFFSETFROM:-0500
TZOFFSETTO:-0400
TZNAME:EDT
DTSTART:20240310T070000
END:DAYLIGHT
BEGIN:STANDARD
TZOFFSETFROM:-0400
TZOFFSETTO:-0500
TZNAME:EST
DTSTART:20241103T060000
END:STANDARD
BEGIN:DAYLIGHT
TZOFFSETFROM:-0500
TZOFFSETTO:-0400
TZNAME:EDT
DTSTART:20250309T070000
END:DAYLIGHT
BEGIN:STANDARD
TZOFFSETFROM:-0400
TZOFFSETTO:-0500
TZNAME:EST
DTSTART:20251102T060000
END:STANDARD
BEGIN:DAYLIGHT
TZOFFSETFROM:-0500
TZOFFSETTO:-0400
TZNAME:EDT
DTSTART:20260308T070000
END:DAYLIGHT
BEGIN:STANDARD
TZOFFSETFROM:-0400
TZOFFSETTO:-0500
TZNAME:EST
DTSTART:20261101T060000
END:STANDARD
END:VTIMEZONE
BEGIN:VEVENT
DTSTART;TZID=America/New_York:20250316T133000
DTEND;TZID=America/New_York:20250316T143000
DTSTAMP:20260424T223939
CREATED:20241212T175608Z
LAST-MODIFIED:20250218T121455Z
UID:2251-1742131800-1742135400@eastpenndemocraticclub.org
SUMMARY:March 2025 East Penn Democratic Club Meeting
DESCRIPTION:Please join us for our March meeting. Alex Short\, Esq.\, our featured speaker\, will discuss immigration law and impacts on the Lehigh Valley.
URL:https://eastpenndemocraticclub.org/event/march-2025-east-penn-democratic-club-meeting/
LOCATION:LCDC Office\, 5920 Hamilton Blvd\, Allentown\, PA\, 18106\, United States
ATTACH;FMTTYPE=image/png:https://eastpenndemocraticclub.org/wp-content/uploads/2024/12/EPDC-March-Meeting-R2.png
END:VEVENT
END:VCALENDAR